BEGIN:VCALENDAR
PRODID:-//hacksw/handcal//NONSGML v1.0//EN
VERSION:2.0
CALSCALE:GREGORIAN
METHOD:PUBLISH
X-WR-CALNAME:Barcelona Software Craftsmanship - Coding Dojo with Carlos Blé
X-WR-TIMEZONE:Europe/Madrid
X-WR-CALDESC:Barcelona Software Craftsmanship - Coding Dojo with Carlos Blé
BEGIN:VEVENT
DTSTART:20140808T180000Z
DTEND:20140808T190000Z
DTSTAMP:20140808T180000Z
UID:b8a1c380c46761baf45b1942dd56357a@betabeers.com
CREATED:20140802T230112Z
DESCRIPTION:https://betabeers.com/en/event/barcelona-software-craftsmanship
-coding-dojo-with-carlos-ble-8-agosto-2014-2065/
URL:https://betabeers.com/en/event/barcelona-software-craftsmanship-coding-
dojo-with-carlos-ble-8-agosto-2014-2065/
LAST-MODIFIED:20140802T230112Z
LOCATION:-, Barcelona, España
SEQUENCE:0
STATUS:CONFIRMED
SUMMARY:Barcelona Software Craftsmanship - Coding Dojo with Carlos Blé
TRANSP:OPAQUE
END:VEVENT
END:VCALENDAR
