BEGIN:VCALENDAR
PRODID:-//hacksw/handcal//NONSGML v1.0//EN
VERSION:2.0
CALSCALE:GREGORIAN
METHOD:PUBLISH
X-WR-CALNAME:CAS2014
X-WR-TIMEZONE:Europe/Madrid
X-WR-CALDESC:CAS2014
BEGIN:VEVENT
DTSTART:20141203T230000Z
DTEND:20141204T230000Z
DTSTAMP:20141203T230000Z
UID:a860d9390a1a44f14de80330110f2fb6@betabeers.com
CREATED:20140729T155515Z
DESCRIPTION:https://betabeers.com/en/event/cas2014-2054/
URL:https://betabeers.com/en/event/cas2014-2054/
LAST-MODIFIED:20140729T155515Z
LOCATION:CCCB (Centre de Cultura Contemporània de Barcelona), Barcelona, E
spaña
SEQUENCE:0
STATUS:CONFIRMED
SUMMARY:CAS2014
TRANSP:OPAQUE
END:VEVENT
END:VCALENDAR
