BEGIN:VCALENDAR
PRODID:-//hacksw/handcal//NONSGML v1.0//EN
VERSION:2.0
CALSCALE:GREGORIAN
METHOD:PUBLISH
X-WR-CALNAME:Node Sol - Hablar de node!
X-WR-TIMEZONE:Europe/Madrid
X-WR-CALDESC:Node Sol - Hablar de node!
BEGIN:VEVENT
DTSTART:20140711T083000Z
DTEND:20140711T093000Z
DTSTAMP:20140711T083000Z
UID:1a83ccdc904941e37b0ae563ba4c23ce@betabeers.com
CREATED:20140705T230113Z
DESCRIPTION:https://betabeers.com/en/event/node-sol-hablar-node-11-julio-20
14-2032/
URL:https://betabeers.com/en/event/node-sol-hablar-node-11-julio-2014-2032/
LAST-MODIFIED:20140705T230113Z
LOCATION:severo ochoa, 27, Malaga, España
SEQUENCE:0
STATUS:CONFIRMED
SUMMARY:Node Sol - Hablar de node!
TRANSP:OPAQUE
END:VEVENT
END:VCALENDAR
