BEGIN:VCALENDAR
PRODID:-//hacksw/handcal//NONSGML v1.0//EN
VERSION:2.0
CALSCALE:GREGORIAN
METHOD:PUBLISH
X-WR-CALNAME:WordPress Barcelona - BuddyPress
X-WR-TIMEZONE:Europe/Madrid
X-WR-CALDESC:WordPress Barcelona - BuddyPress
BEGIN:VEVENT
DTSTART:20140709T180000Z
DTEND:20140709T190000Z
DTSTAMP:20140709T180000Z
UID:72e9a14dc8557d9515ca2f25b86c8d7a@betabeers.com
CREATED:20140705T230104Z
DESCRIPTION:https://betabeers.com/en/event/wordpress-barcelona-buddypress-9
-julio-2014-2031/
URL:https://betabeers.com/en/event/wordpress-barcelona-buddypress-9-julio-2
014-2031/
LAST-MODIFIED:20140705T230104Z
LOCATION:Fontanella 2, Barcelona, España
SEQUENCE:0
STATUS:CONFIRMED
SUMMARY:WordPress Barcelona - BuddyPress
TRANSP:OPAQUE
END:VEVENT
END:VCALENDAR
