BEGIN:VCALENDAR
PRODID:-//hacksw/handcal//NONSGML v1.0//EN
VERSION:2.0
CALSCALE:GREGORIAN
METHOD:PUBLISH
X-WR-CALNAME:The Barcelona Python Meetup Group - Python & DevOps
X-WR-TIMEZONE:Europe/Madrid
X-WR-CALDESC:The Barcelona Python Meetup Group - Python & DevOps
BEGIN:VEVENT
DTSTART:20140626T180000Z
DTEND:20140626T190000Z
DTSTAMP:20140626T180000Z
UID:91a8380997d48a761da8e3dee8e44cef@betabeers.com
CREATED:20140621T230005Z
DESCRIPTION:https://betabeers.com/en/event/the-barcelona-python-meetup-grou
p-python-devops-26-junio-2014-2010/
URL:https://betabeers.com/en/event/the-barcelona-python-meetup-group-python
-devops-26-junio-2014-2010/
LAST-MODIFIED:20140621T230005Z
LOCATION:c/ Dr. Aiguader, 88, Barcelona, España
SEQUENCE:0
STATUS:CONFIRMED
SUMMARY:The Barcelona Python Meetup Group - Python & DevOps
TRANSP:OPAQUE
END:VEVENT
END:VCALENDAR
