BEGIN:VCALENDAR
PRODID:-//hacksw/handcal//NONSGML v1.0//EN
VERSION:2.0
CALSCALE:GREGORIAN
METHOD:PUBLISH
X-WR-CALNAME:Node Sol - Hablar de node!
X-WR-TIMEZONE:Europe/Madrid
X-WR-CALDESC:Node Sol - Hablar de node!
BEGIN:VEVENT
DTSTART:20140606T083000Z
DTEND:20140606T093000Z
DTSTAMP:20140606T083000Z
UID:b3d90f86dfcea37094090c2795c33ee4@betabeers.com
CREATED:20140531T230118Z
DESCRIPTION:https://betabeers.com/en/event/node-sol-hablar-node-6-junio-201
4-1958/
URL:https://betabeers.com/en/event/node-sol-hablar-node-6-junio-2014-1958/
LAST-MODIFIED:20140531T230118Z
LOCATION:severo ochoa, 27, Malaga, España
SEQUENCE:0
STATUS:CONFIRMED
SUMMARY:Node Sol - Hablar de node!
TRANSP:OPAQUE
END:VEVENT
END:VCALENDAR
