BEGIN:VCALENDAR
PRODID:-//hacksw/handcal//NONSGML v1.0//EN
VERSION:2.0
CALSCALE:GREGORIAN
METHOD:PUBLISH
X-WR-CALNAME:PyLadies BCN - Code-and-Learn Weekly Meetup
X-WR-TIMEZONE:Europe/Madrid
X-WR-CALDESC:PyLadies BCN - Code-and-Learn Weekly Meetup
BEGIN:VEVENT
DTSTART:20140603T173000Z
DTEND:20140603T183000Z
DTSTAMP:20140603T173000Z
UID:b59cfd981e3d8aafc5622871a6f2e292@betabeers.com
CREATED:20140531T230116Z
DESCRIPTION:https://betabeers.com/en/event/pyladies-bcn-code-and-learn-week
ly-meetup-3-junio-2014-1956/
URL:https://betabeers.com/en/event/pyladies-bcn-code-and-learn-weekly-meetu
p-3-junio-2014-1956/
LAST-MODIFIED:20140531T230116Z
LOCATION:-, Barcelona, España
SEQUENCE:0
STATUS:CONFIRMED
SUMMARY:PyLadies BCN - Code-and-Learn Weekly Meetup
TRANSP:OPAQUE
END:VEVENT
END:VCALENDAR
