BEGIN:VCALENDAR
PRODID:-//hacksw/handcal//NONSGML v1.0//EN
VERSION:2.0
CALSCALE:GREGORIAN
METHOD:PUBLISH
X-WR-CALNAME:Scala Developers Barcelona - Scala Testing with Scalatest
X-WR-TIMEZONE:Europe/Madrid
X-WR-CALDESC:Scala Developers Barcelona - Scala Testing with Scalatest
BEGIN:VEVENT
DTSTART:20140605T180000Z
DTEND:20140605T190000Z
DTSTAMP:20140605T180000Z
UID:3d785a79807f4b441dd5fabc6464339a@betabeers.com
CREATED:20140531T230106Z
DESCRIPTION:https://betabeers.com/en/event/scala-developers-barcelona-scala
-testing-with-scalatest-5-junio-2014-1952/
URL:https://betabeers.com/en/event/scala-developers-barcelona-scala-testing
-with-scalatest-5-junio-2014-1952/
LAST-MODIFIED:20140531T230106Z
LOCATION:Carrer Bailèn, 11, 08010, Barcelona, España
SEQUENCE:0
STATUS:CONFIRMED
SUMMARY:Scala Developers Barcelona - Scala Testing with Scalatest
TRANSP:OPAQUE
END:VEVENT
END:VCALENDAR
