BEGIN:VCALENDAR
PRODID:-//hacksw/handcal//NONSGML v1.0//EN
VERSION:2.0
CALSCALE:GREGORIAN
METHOD:PUBLISH
X-WR-CALNAME:Viernes Abierto - Raspberry PI, GPIOS y botones
X-WR-TIMEZONE:Europe/Madrid
X-WR-CALDESC:Viernes Abierto - Raspberry PI, GPIOS y botones
BEGIN:VEVENT
DTSTART:20140613T180000Z
DTEND:20140613T000000Z
DTSTAMP:20140613T180000Z
UID:45b3f22a0e3fe633c6a1b2aebfb4d1c8@betabeers.com
CREATED:20140528T110558Z
DESCRIPTION:https://betabeers.com/en/event/viernes-abierto-raspberry-pi-gpi
os-botones-13-junio-2014-1933/
URL:https://betabeers.com/en/event/viernes-abierto-raspberry-pi-gpios-boton
es-13-junio-2014-1933/
LAST-MODIFIED:20140528T110558Z
LOCATION:Camino de la mosquetera 41, Zaragoza, España
SEQUENCE:0
STATUS:CONFIRMED
SUMMARY:Viernes Abierto - Raspberry PI, GPIOS y botones
TRANSP:OPAQUE
END:VEVENT
END:VCALENDAR
