BEGIN:VCALENDAR
PRODID:-//hacksw/handcal//NONSGML v1.0//EN
VERSION:2.0
CALSCALE:GREGORIAN
METHOD:PUBLISH
X-WR-CALNAME:Taller de NAS con OpenWRT
X-WR-TIMEZONE:Europe/Madrid
X-WR-CALDESC:Taller de NAS con OpenWRT
BEGIN:VEVENT
DTSTART:20140611T180000Z
DTEND:20140611T200000Z
DTSTAMP:20140611T180000Z
UID:00914f0e0e1f7efbdeb535ed29b96afa@betabeers.com
CREATED:20140528T110419Z
DESCRIPTION:https://betabeers.com/en/event/taller-nas-openwrt-11-junio-2014
-1929/
URL:https://betabeers.com/en/event/taller-nas-openwrt-11-junio-2014-1929/
LAST-MODIFIED:20140528T110419Z
LOCATION:Camino de la mosquetera 41, Zaragoza, España
SEQUENCE:0
STATUS:CONFIRMED
SUMMARY:Taller de NAS con OpenWRT
TRANSP:OPAQUE
END:VEVENT
END:VCALENDAR
