BEGIN:VCALENDAR
PRODID:-//hacksw/handcal//NONSGML v1.0//EN
VERSION:2.0
CALSCALE:GREGORIAN
METHOD:PUBLISH
X-WR-CALNAME:Madrid MongoDB User Group - What's new in MongoDB 2.6
X-WR-TIMEZONE:Europe/Madrid
X-WR-CALDESC:Madrid MongoDB User Group - What's new in MongoDB 2.6
BEGIN:VEVENT
DTSTART:20140606T173000Z
DTEND:20140606T183000Z
DTSTAMP:20140606T173000Z
UID:16013564090978bb79994e0ae2b8dad2@betabeers.com
CREATED:20140524T230006Z
DESCRIPTION:https://betabeers.com/en/event/madrid-mongodb-user-group-whats-
new-in-mongodb-26-6-junio-2014-1920/
URL:https://betabeers.com/en/event/madrid-mongodb-user-group-whats-new-in-m
ongodb-26-6-junio-2014-1920/
LAST-MODIFIED:20140524T230006Z
LOCATION:-, Madrid, España
SEQUENCE:0
STATUS:CONFIRMED
SUMMARY:Madrid MongoDB User Group - What's new in MongoDB 2.6
TRANSP:OPAQUE
END:VEVENT
END:VCALENDAR
