BEGIN:VCALENDAR
PRODID:-//hacksw/handcal//NONSGML v1.0//EN
VERSION:2.0
CALSCALE:GREGORIAN
METHOD:PUBLISH
X-WR-CALNAME:Encuentro de CiviCRM
X-WR-TIMEZONE:Europe/Madrid
X-WR-CALDESC:Encuentro de CiviCRM
BEGIN:VEVENT
DTSTART:20140603T173000Z
DTEND:20140603T193000Z
DTSTAMP:20140603T173000Z
UID:38119dff90f21d5ec2a1131484142f89@betabeers.com
CREATED:20140522T153056Z
DESCRIPTION:https://betabeers.com/en/event/encuentro-civicrm-1918/
URL:https://betabeers.com/en/event/encuentro-civicrm-1918/
LAST-MODIFIED:20140522T153056Z
LOCATION:Universidad Politécnica de Catalunya (UPC) - Edificio C6 del Camp
us Nord de la UPC Dulcet 1 Sala C6-E101, Barcelona, España
SEQUENCE:0
STATUS:CONFIRMED
SUMMARY:Encuentro de CiviCRM
TRANSP:OPAQUE
END:VEVENT
END:VCALENDAR
