BEGIN:VCALENDAR
PRODID:-//hacksw/handcal//NONSGML v1.0//EN
VERSION:2.0
CALSCALE:GREGORIAN
METHOD:PUBLISH
X-WR-CALNAME:Developing dead - Taller avanzado de desarrollo de juegos con Unity3D
X-WR-TIMEZONE:Europe/Madrid
X-WR-CALDESC:Developing dead - Taller avanzado de desarrollo de juegos con Unity3D
BEGIN:VEVENT
DTSTART:20140524T083000Z
DTEND:20140524T170000Z
DTSTAMP:20140524T083000Z
UID:ae32ffff2bc9a11a98318577c983af55@betabeers.com
CREATED:20140511T232239Z
DESCRIPTION:https://betabeers.com/en/event/developing-dead-taller-avanzado-
desarrollo-juegos-unity3d-24-mayo-2014-1884/
URL:https://betabeers.com/en/event/developing-dead-taller-avanzado-desarrol
lo-juegos-unity3d-24-mayo-2014-1884/
LAST-MODIFIED:20140511T232239Z
LOCATION:Universidad Rey Juan Carlos (Campus Móstoles)-Escuela Técnica Su
perior de Ingeniería Informática-ETSII., Mostoles, España
SEQUENCE:0
STATUS:CONFIRMED
SUMMARY:Developing dead - Taller avanzado de desarrollo de juegos con Unity
3D
TRANSP:OPAQUE
END:VEVENT
END:VCALENDAR
