BEGIN:VCALENDAR
PRODID:-//hacksw/handcal//NONSGML v1.0//EN
VERSION:2.0
CALSCALE:GREGORIAN
METHOD:PUBLISH
X-WR-CALNAME:Node Sol - Hablar de node!
X-WR-TIMEZONE:Europe/Madrid
X-WR-CALDESC:Node Sol - Hablar de node!
BEGIN:VEVENT
DTSTART:20140509T083000Z
DTEND:20140509T093000Z
DTSTAMP:20140509T083000Z
UID:1a401318e52ea12f13d83f969ee24dc9@betabeers.com
CREATED:20140503T230114Z
DESCRIPTION:https://betabeers.com/en/event/node-sol-hablar-node-9-mayo-2014
-1870/
URL:https://betabeers.com/en/event/node-sol-hablar-node-9-mayo-2014-1870/
LAST-MODIFIED:20140503T230114Z
LOCATION:severo ochoa, 27, Malaga, España
SEQUENCE:0
STATUS:CONFIRMED
SUMMARY:Node Sol - Hablar de node!
TRANSP:OPAQUE
END:VEVENT
END:VCALENDAR
