BEGIN:VCALENDAR
PRODID:-//hacksw/handcal//NONSGML v1.0//EN
VERSION:2.0
CALSCALE:GREGORIAN
METHOD:PUBLISH
X-WR-CALNAME:Barcelona Software Craftsmanship - TDD is dead? I didn't get the memo!
X-WR-TIMEZONE:Europe/Madrid
X-WR-CALDESC:Barcelona Software Craftsmanship - TDD is dead? I didn't get the memo!
BEGIN:VEVENT
DTSTART:20140505T180000Z
DTEND:20140505T190000Z
DTSTAMP:20140505T180000Z
UID:b87c14a4d737ca0a8240824ab024733e@betabeers.com
CREATED:20140503T230113Z
DESCRIPTION:https://betabeers.com/en/event/barcelona-software-craftsmanship
-tdd-is-dead-i-didnt-get-the-memo-5-mayo-2014-1869/
URL:https://betabeers.com/en/event/barcelona-software-craftsmanship-tdd-is-
dead-i-didnt-get-the-memo-5-mayo-2014-1869/
LAST-MODIFIED:20140503T230113Z
LOCATION:Carrer dels Almogàvers, 123, Barcelona, España
SEQUENCE:0
STATUS:CONFIRMED
SUMMARY:Barcelona Software Craftsmanship - TDD is dead? I didn't get the me
mo!
TRANSP:OPAQUE
END:VEVENT
END:VCALENDAR
