BEGIN:VCALENDAR
PRODID:-//hacksw/handcal//NONSGML v1.0//EN
VERSION:2.0
CALSCALE:GREGORIAN
METHOD:PUBLISH
X-WR-CALNAME:Scala Developers Barcelona - Building Reactive Applications with Akka (by Jonas Bonér)
X-WR-TIMEZONE:Europe/Madrid
X-WR-CALDESC:Scala Developers Barcelona - Building Reactive Applications with Akka (by Jonas Bonér)
BEGIN:VEVENT
DTSTART:20140522T170000Z
DTEND:20140522T180000Z
DTSTAMP:20140522T170000Z
UID:ab6d85ea4eec4225aaeb790939449668@betabeers.com
CREATED:20140503T230102Z
DESCRIPTION:https://betabeers.com/en/event/scala-developers-barcelona-build
ing-reactive-applications-with-akka-by-jonas-boner-22-mayo-2014-1864/
URL:https://betabeers.com/en/event/scala-developers-barcelona-building-reac
tive-applications-with-akka-by-jonas-boner-22-mayo-2014-1864/
LAST-MODIFIED:20140503T230102Z
LOCATION:UPC Campus Nord. Edificio B6., Barcelona, España
SEQUENCE:0
STATUS:CONFIRMED
SUMMARY:Scala Developers Barcelona - Building Reactive Applications with Ak
ka (by Jonas Bonér)
TRANSP:OPAQUE
END:VEVENT
END:VCALENDAR
