BEGIN:VCALENDAR
PRODID:-//hacksw/handcal//NONSGML v1.0//EN
VERSION:2.0
CALSCALE:GREGORIAN
METHOD:PUBLISH
X-WR-CALNAME:Utilizando Drupal para acelerar el arranque de tus proyectos
X-WR-TIMEZONE:Europe/Madrid
X-WR-CALDESC:Utilizando Drupal para acelerar el arranque de tus proyectos
BEGIN:VEVENT
DTSTART:20140429T180000Z
DTEND:20140429T200000Z
DTSTAMP:20140429T180000Z
UID:54d120de6bca8dc56c6be7c8660a83a8@betabeers.com
CREATED:20140423T095931Z
DESCRIPTION:https://betabeers.com/en/event/utilizando-drupal-acelerar-el-ar
ranque-tus-proyectos-1836/
URL:https://betabeers.com/en/event/utilizando-drupal-acelerar-el-arranque-t
us-proyectos-1836/
LAST-MODIFIED:20140423T095931Z
LOCATION:Avenida Cataluña, 11, Valencia, España
SEQUENCE:0
STATUS:CONFIRMED
SUMMARY:Utilizando Drupal para acelerar el arranque de tus proyectos
TRANSP:OPAQUE
END:VEVENT
END:VCALENDAR
