BEGIN:VCALENDAR
PRODID:-//hacksw/handcal//NONSGML v1.0//EN
VERSION:2.0
CALSCALE:GREGORIAN
METHOD:PUBLISH
X-WR-CALNAME:Drupal & Tapas Zaragoza
X-WR-TIMEZONE:Europe/Madrid
X-WR-CALDESC:Drupal & Tapas Zaragoza
BEGIN:VEVENT
DTSTART:20140411T143000Z
DTEND:20140412T110000Z
DTSTAMP:20140411T143000Z
UID:05596424f866688729338165b5bf3b99@betabeers.com
CREATED:20140403T180048Z
DESCRIPTION:https://betabeers.com/en/event/drupal-tapas-zaragoza-1772/
URL:https://betabeers.com/en/event/drupal-tapas-zaragoza-1772/
LAST-MODIFIED:20140403T180048Z
LOCATION:Plaza de los Sitios, 17 , Zaragoza, Zaragoza, España
SEQUENCE:0
STATUS:CONFIRMED
SUMMARY:Drupal & Tapas Zaragoza
TRANSP:OPAQUE
END:VEVENT
END:VCALENDAR
