BEGIN:VCALENDAR
PRODID:-//hacksw/handcal//NONSGML v1.0//EN
VERSION:2.0
CALSCALE:GREGORIAN
METHOD:PUBLISH
X-WR-CALNAME:Tech Demo Day 2014
X-WR-TIMEZONE:Europe/Madrid
X-WR-CALDESC:Tech Demo Day 2014
BEGIN:VEVENT
DTSTART:20140528T140000Z
DTEND:20140528T200000Z
DTSTAMP:20140528T140000Z
UID:864e6deca43dfb5b5c1ecf109875ea4f@betabeers.com
CREATED:20140403T165252Z
DESCRIPTION:https://betabeers.com/en/event/tech-demo-day-2014-1771/
URL:https://betabeers.com/en/event/tech-demo-day-2014-1771/
LAST-MODIFIED:20140403T165252Z
LOCATION:Carrer de Lluçanes 43, 08022, Barcelona, Barcelona, España
SEQUENCE:0
STATUS:CONFIRMED
SUMMARY:Tech Demo Day 2014
TRANSP:OPAQUE
END:VEVENT
END:VCALENDAR
