BEGIN:VCALENDAR
PRODID:-//hacksw/handcal//NONSGML v1.0//EN
VERSION:2.0
CALSCALE:GREGORIAN
METHOD:PUBLISH
X-WR-CALNAME:V Betabeers Bilbao
X-WR-TIMEZONE:Europe/Madrid
X-WR-CALDESC:V Betabeers Bilbao
BEGIN:VEVENT
DTSTART:20140516T170000Z
DTEND:20140516T190000Z
DTSTAMP:20140516T170000Z
UID:665f06d4db2387ce3e1d3a4a7b0804e8@betabeers.com
CREATED:20140328T165619Z
DESCRIPTION:https://betabeers.com/en/event/v-betabeers-bilbao-1731/
URL:https://betabeers.com/en/event/v-betabeers-bilbao-1731/
LAST-MODIFIED:20140328T165619Z
LOCATION:EUTOKIA - Centro de Innovación Social de Bilbao, Bilbao-Galdakao 
Errepidea, 10, 48004 Bilbao, Bizkaia, Bilbao, España
SEQUENCE:0
STATUS:CONFIRMED
SUMMARY:V Betabeers Bilbao
TRANSP:OPAQUE
END:VEVENT
END:VCALENDAR
