BEGIN:VCALENDAR
PRODID:-//hacksw/handcal//NONSGML v1.0//EN
VERSION:2.0
CALSCALE:GREGORIAN
METHOD:PUBLISH
X-WR-CALNAME:APIdays Mediterranea
X-WR-TIMEZONE:Europe/Madrid
X-WR-CALDESC:APIdays Mediterranea
BEGIN:VEVENT
DTSTART:20140529T080000Z
DTEND:20140529T230000Z
DTSTAMP:20140529T080000Z
UID:fdbd638b743948042145a6b5dddc65f3@betabeers.com
CREATED:20140318T144514Z
DESCRIPTION:https://betabeers.com/en/event/apidays-mediterranea-1705/
URL:https://betabeers.com/en/event/apidays-mediterranea-1705/
LAST-MODIFIED:20140318T144514Z
LOCATION:Plaça de Catalunya, 08002 Barcelona, Barcelona, España
SEQUENCE:0
STATUS:CONFIRMED
SUMMARY:APIdays Mediterranea
TRANSP:OPAQUE
END:VEVENT
END:VCALENDAR
