BEGIN:VCALENDAR
PRODID:-//hacksw/handcal//NONSGML v1.0//EN
VERSION:2.0
CALSCALE:GREGORIAN
METHOD:PUBLISH
X-WR-CALNAME:Barcelona MongoDB User Group - March Madness
X-WR-TIMEZONE:Europe/Madrid
X-WR-CALDESC:Barcelona MongoDB User Group - March Madness
BEGIN:VEVENT
DTSTART:20140318T173000Z
DTEND:20140318T183000Z
DTSTAMP:20140318T173000Z
UID:88f8c76923377407489f2a50042ebc83@betabeers.com
CREATED:20140315T230040Z
DESCRIPTION:https://betabeers.com/en/event/barcelona-mongodb-user-group-mar
ch-madness-18-marzo-2014-1701/
URL:https://betabeers.com/en/event/barcelona-mongodb-user-group-march-madne
ss-18-marzo-2014-1701/
LAST-MODIFIED:20140315T230040Z
LOCATION:Plaça de Catalunya 1, 08002, Barcelona, España
SEQUENCE:0
STATUS:CONFIRMED
SUMMARY:Barcelona MongoDB User Group - March Madness
TRANSP:OPAQUE
END:VEVENT
END:VCALENDAR
