BEGIN:VCALENDAR
PRODID:-//hacksw/handcal//NONSGML v1.0//EN
VERSION:2.0
CALSCALE:GREGORIAN
METHOD:PUBLISH
X-WR-CALNAME:WordPress Barcelona - Plugins Imprescindibles
X-WR-TIMEZONE:Europe/Madrid
X-WR-CALDESC:WordPress Barcelona - Plugins Imprescindibles
BEGIN:VEVENT
DTSTART:20140409T180000Z
DTEND:20140409T190000Z
DTSTAMP:20140409T180000Z
UID:cc0afc4d0ee1c728cea53763fd49ab7c@betabeers.com
CREATED:20140315T230039Z
DESCRIPTION:https://betabeers.com/en/event/wordpress-barcelona-plugins-impr
escindibles-9-abril-2014-1700/
URL:https://betabeers.com/en/event/wordpress-barcelona-plugins-imprescindib
les-9-abril-2014-1700/
LAST-MODIFIED:20140315T230039Z
LOCATION:Fontanella 2, Barcelona, España
SEQUENCE:0
STATUS:CONFIRMED
SUMMARY:WordPress Barcelona - Plugins Imprescindibles
TRANSP:OPAQUE
END:VEVENT
END:VCALENDAR
