BEGIN:VCALENDAR
PRODID:-//hacksw/handcal//NONSGML v1.0//EN
VERSION:2.0
CALSCALE:GREGORIAN
METHOD:PUBLISH
X-WR-CALNAME:The Mêlée Mobile
X-WR-TIMEZONE:Europe/Madrid
X-WR-CALDESC:The Mêlée Mobile
BEGIN:VEVENT
DTSTART:20120113T170000Z
DTEND:20120113T190000Z
DTSTAMP:20120113T170000Z
UID:59a0abba98e5fd7e3d8f771454810f26@betabeers.com
CREATED:20120108T230238Z
DESCRIPTION:https://betabeers.com/en/event/the-melee-mobile-17/
URL:https://betabeers.com/en/event/the-melee-mobile-17/
LAST-MODIFIED:20120108T230238Z
LOCATION:Biblioteca carlos santamaría, donostia, San Sebastian, España
SEQUENCE:0
STATUS:CONFIRMED
SUMMARY:The Mêlée Mobile
TRANSP:OPAQUE
END:VEVENT
END:VCALENDAR
