BEGIN:VCALENDAR
PRODID:-//hacksw/handcal//NONSGML v1.0//EN
VERSION:2.0
CALSCALE:GREGORIAN
METHOD:PUBLISH
X-WR-CALNAME:Scala Developers Barcelona - Play! 101
X-WR-TIMEZONE:Europe/Madrid
X-WR-CALDESC:Scala Developers Barcelona - Play! 101
BEGIN:VEVENT
DTSTART:20140326T180000Z
DTEND:20140326T190000Z
DTSTAMP:20140326T180000Z
UID:40e12bd9fdeacaea8f4b0fa17ed058e5@betabeers.com
CREATED:20140315T230038Z
DESCRIPTION:https://betabeers.com/en/event/scala-developers-barcelona-play-
101-26-marzo-2014-1699/
URL:https://betabeers.com/en/event/scala-developers-barcelona-play-101-26-m
arzo-2014-1699/
LAST-MODIFIED:20140315T230038Z
LOCATION:Carrer Bailèn, 11, 08010, Barcelona, España
SEQUENCE:0
STATUS:CONFIRMED
SUMMARY:Scala Developers Barcelona - Play! 101
TRANSP:OPAQUE
END:VEVENT
END:VCALENDAR
