BEGIN:VCALENDAR
PRODID:-//hacksw/handcal//NONSGML v1.0//EN
VERSION:2.0
CALSCALE:GREGORIAN
METHOD:PUBLISH
X-WR-CALNAME:frontenders Valencia marzo - Carruseles Animados y Diseño en Wikipedia
X-WR-TIMEZONE:Europe/Madrid
X-WR-CALDESC:frontenders Valencia marzo - Carruseles Animados y Diseño en Wikipedia
BEGIN:VEVENT
DTSTART:20140313T170000Z
DTEND:20140313T200000Z
DTSTAMP:20140313T170000Z
UID:a10f089f958a4cff069c5ebe2931455e@betabeers.com
CREATED:20140310T155057Z
DESCRIPTION:https://betabeers.com/en/event/frontenders-valencia-marzo-carru
seles-animados-diseno-wikipedia-13-marzo-2014-1675/
URL:https://betabeers.com/en/event/frontenders-valencia-marzo-carruseles-an
imados-diseno-wikipedia-13-marzo-2014-1675/
LAST-MODIFIED:20140310T155057Z
LOCATION:Workether, Calle Serpis 3, Valencia, España
SEQUENCE:0
STATUS:CONFIRMED
SUMMARY:frontenders Valencia marzo - Carruseles Animados y Diseño en Wikip
edia
TRANSP:OPAQUE
END:VEVENT
END:VCALENDAR
