BEGIN:VCALENDAR
PRODID:-//hacksw/handcal//NONSGML v1.0//EN
VERSION:2.0
CALSCALE:GREGORIAN
METHOD:PUBLISH
X-WR-CALNAME:Global Windows Azure Boot Camp España 2014
X-WR-TIMEZONE:Europe/Madrid
X-WR-CALDESC:Global Windows Azure Boot Camp España 2014
BEGIN:VEVENT
DTSTART:20140329T080000Z
DTEND:20140329T173000Z
DTSTAMP:20140329T080000Z
UID:4edafdba586f2082a27c984b2c72ac24@betabeers.com
CREATED:20140309T214013Z
DESCRIPTION:https://betabeers.com/en/event/global-windows-azure-boot-camp-e
spana-2014-1671/
URL:https://betabeers.com/en/event/global-windows-azure-boot-camp-espana-20
14-1671/
LAST-MODIFIED:20140309T214013Z
LOCATION:Paseo Club Deportivo, 1, Pozuelo de Alarcon, España
SEQUENCE:0
STATUS:CONFIRMED
SUMMARY:Global Windows Azure Boot Camp España 2014
TRANSP:OPAQUE
END:VEVENT
END:VCALENDAR
