BEGIN:VCALENDAR
PRODID:-//hacksw/handcal//NONSGML v1.0//EN
VERSION:2.0
CALSCALE:GREGORIAN
METHOD:PUBLISH
X-WR-CALNAME:LeanStartup BCN
X-WR-TIMEZONE:Europe/Madrid
X-WR-CALDESC:LeanStartup BCN
BEGIN:VEVENT
DTSTART:20120329T170000Z
DTEND:20120329T200000Z
DTSTAMP:20120329T170000Z
UID:00ad7c40ad5e0108d2d2c115e277a49e@betabeers.com
CREATED:20120306T123444Z
DESCRIPTION:https://betabeers.com/en/event/leanstartup-bcn-29-marzo-2012-16
7/
URL:https://betabeers.com/en/event/leanstartup-bcn-29-marzo-2012-167/
LAST-MODIFIED:20120306T123444Z
LOCATION:Parc d'Innovació La Salle 30 Carrer dels Quatre Camins  08022 Bar
celona, Barcelona, España
SEQUENCE:0
STATUS:CONFIRMED
SUMMARY:LeanStartup BCN
TRANSP:OPAQUE
END:VEVENT
END:VCALENDAR
