BEGIN:VCALENDAR
PRODID:-//hacksw/handcal//NONSGML v1.0//EN
VERSION:2.0
CALSCALE:GREGORIAN
METHOD:PUBLISH
X-WR-CALNAME:GDG Bogotá - Women Techmakers Event [Evento solo para mujeres]
X-WR-TIMEZONE:Europe/Madrid
X-WR-CALDESC:GDG Bogotá - Women Techmakers Event [Evento solo para mujeres]
BEGIN:VEVENT
DTSTART:20140321T230000Z
DTEND:20140321T230000Z
DTSTAMP:20140321T230000Z
UID:8a872290dc94ae5559a26079cb491053@betabeers.com
CREATED:20140302T054254Z
DESCRIPTION:https://betabeers.com/en/event/gdg-bogota-women-techmakers-even
t-evento-solo-mujeres-1616/
URL:https://betabeers.com/en/event/gdg-bogota-women-techmakers-event-evento
-solo-mujeres-1616/
LAST-MODIFIED:20140302T054254Z
LOCATION:-, Bucaramanga, Colombia
SEQUENCE:0
STATUS:CONFIRMED
SUMMARY:GDG Bogotá - Women Techmakers Event [Evento solo para mujeres]
TRANSP:OPAQUE
END:VEVENT
END:VCALENDAR
