BEGIN:VCALENDAR
PRODID:-//hacksw/handcal//NONSGML v1.0//EN
VERSION:2.0
CALSCALE:GREGORIAN
METHOD:PUBLISH
X-WR-CALNAME:42 Beers
X-WR-TIMEZONE:Europe/Madrid
X-WR-CALDESC:42 Beers
BEGIN:VEVENT
DTSTART:20120315T180000Z
DTEND:20120315T200000Z
DTSTAMP:20120315T180000Z
UID:9509ecc55e55ad8fe3e8b9efed110dd5@betabeers.com
CREATED:20120305T161516Z
DESCRIPTION:https://betabeers.com/en/event/42-beers-15-marzo-2012-156/
URL:https://betabeers.com/en/event/42-beers-15-marzo-2012-156/
LAST-MODIFIED:20120305T161516Z
LOCATION:Santísima Trinidad nº5. 4th Floor, Madrid, España
SEQUENCE:0
STATUS:CONFIRMED
SUMMARY:42 Beers
TRANSP:OPAQUE
END:VEVENT
END:VCALENDAR
