BEGIN:VCALENDAR
PRODID:-//hacksw/handcal//NONSGML v1.0//EN
VERSION:2.0
CALSCALE:GREGORIAN
METHOD:PUBLISH
X-WR-CALNAME:Debian Women MiniDebConf Barcelona 2014
X-WR-TIMEZONE:Europe/Madrid
X-WR-CALDESC:Debian Women MiniDebConf Barcelona 2014
BEGIN:VEVENT
DTSTART:20140315T080000Z
DTEND:20140316T180000Z
DTSTAMP:20140315T080000Z
UID:b4744ec688ea85c94d37945532f75f9a@betabeers.com
CREATED:20140209T182416Z
DESCRIPTION:https://betabeers.com/en/event/debian-women-minidebconf-barcelo
na-2014-1542/
URL:https://betabeers.com/en/event/debian-women-minidebconf-barcelona-2014-
1542/
LAST-MODIFIED:20140209T182416Z
LOCATION:Universidad de Barcelona, Plaza Universidad, Barcelona, España
SEQUENCE:0
STATUS:CONFIRMED
SUMMARY:Debian Women MiniDebConf Barcelona 2014
TRANSP:OPAQUE
END:VEVENT
END:VCALENDAR
