BEGIN:VCALENDAR
PRODID:-//hacksw/handcal//NONSGML v1.0//EN
VERSION:2.0
CALSCALE:GREGORIAN
METHOD:PUBLISH
X-WR-CALNAME:Guateque de presentación del 9Cards en la oficina de 47 Degrees
X-WR-TIMEZONE:Europe/Madrid
X-WR-CALDESC:Guateque de presentación del 9Cards en la oficina de 47 Degrees
BEGIN:VEVENT
DTSTART:20140218T170000Z
DTEND:20140218T180000Z
DTSTAMP:20140218T170000Z
UID:407174fc65257334ed45a64f118178e5@betabeers.com
CREATED:20140205T101743Z
DESCRIPTION:https://betabeers.com/en/event/guateque-presentacion-del-9cards
-la-oficina-47-degrees-1535/
URL:https://betabeers.com/en/event/guateque-presentacion-del-9cards-la-ofic
ina-47-degrees-1535/
LAST-MODIFIED:20140205T101743Z
LOCATION:Calle Real 150, San Fernando, España
SEQUENCE:0
STATUS:CONFIRMED
SUMMARY:Guateque de presentación del 9Cards en la oficina de 47 Degrees
TRANSP:OPAQUE
END:VEVENT
END:VCALENDAR
