BEGIN:VCALENDAR
PRODID:-//hacksw/handcal//NONSGML v1.0//EN
VERSION:2.0
CALSCALE:GREGORIAN
METHOD:PUBLISH
X-WR-CALNAME:DosisWeb Sabadell
X-WR-TIMEZONE:Europe/Madrid
X-WR-CALDESC:DosisWeb Sabadell
BEGIN:VEVENT
DTSTART:20120308T190000Z
DTEND:20120308T210000Z
DTSTAMP:20120308T190000Z
UID:5b28969fcf39dd2a914c575d14eca63d@betabeers.com
CREATED:20120302T121639Z
DESCRIPTION:https://betabeers.com/en/event/dosisweb-sabadell-8-marzo-2012-1
52/
URL:https://betabeers.com/en/event/dosisweb-sabadell-8-marzo-2012-152/
LAST-MODIFIED:20120302T121639Z
LOCATION:TicTacToe, Via Massagué 15, Sabadell, España
SEQUENCE:0
STATUS:CONFIRMED
SUMMARY:DosisWeb Sabadell
TRANSP:OPAQUE
END:VEVENT
END:VCALENDAR
