BEGIN:VCALENDAR
PRODID:-//hacksw/handcal//NONSGML v1.0//EN
VERSION:2.0
CALSCALE:GREGORIAN
METHOD:PUBLISH
X-WR-CALNAME:IV Betabeers Bilbao
X-WR-TIMEZONE:Europe/Madrid
X-WR-CALDESC:IV Betabeers Bilbao
BEGIN:VEVENT
DTSTART:20140228T170000Z
DTEND:20140228T200000Z
DTSTAMP:20140228T170000Z
UID:d4b4b00e865e2bba4e63f9de2eb25f2c@betabeers.com
CREATED:20140127T163022Z
DESCRIPTION:https://betabeers.com/en/event/iv-betabeers-bilbao-1510/
URL:https://betabeers.com/en/event/iv-betabeers-bilbao-1510/
LAST-MODIFIED:20140127T163022Z
LOCATION:EUTOKIA - Centro de Innovación Social de Bilbao, Bilbao-Galdakao 
Errepidea, 10, 48004 Bilbao, Bizkaia, Bilbao, España
SEQUENCE:0
STATUS:CONFIRMED
SUMMARY:IV Betabeers Bilbao
TRANSP:OPAQUE
END:VEVENT
END:VCALENDAR
