BEGIN:VCALENDAR
PRODID:-//hacksw/handcal//NONSGML v1.0//EN
VERSION:2.0
CALSCALE:GREGORIAN
METHOD:PUBLISH
X-WR-CALNAME:Madrid Global Game Jam - Microsoft Ibérica, Centro Empresarial La Finca
X-WR-TIMEZONE:Europe/Madrid
X-WR-CALDESC:Madrid Global Game Jam - Microsoft Ibérica, Centro Empresarial La Finca
BEGIN:VEVENT
DTSTART:20140124T120000Z
DTEND:20140126T180000Z
DTSTAMP:20140124T120000Z
UID:13b5d9f2cd188f67afbf53381f3659aa@betabeers.com
CREATED:20140117T132552Z
DESCRIPTION:https://betabeers.com/en/event/madrid-global-game-jam-microsoft
-iberica-centro-empresarial-la-finca-1472/
URL:https://betabeers.com/en/event/madrid-global-game-jam-microsoft-iberica
-centro-empresarial-la-finca-1472/
LAST-MODIFIED:20140117T132552Z
LOCATION:Paseo Club Deportivo, 1, 28223 Pozuelo de Alarcón, Madrid, Españ
a, Pozuelo de Alarcon, España
SEQUENCE:0
STATUS:CONFIRMED
SUMMARY:Madrid Global Game Jam - Microsoft Ibérica, Centro Empresarial La 
Finca
TRANSP:OPAQUE
END:VEVENT
END:VCALENDAR
