BEGIN:VCALENDAR
PRODID:-//hacksw/handcal//NONSGML v1.0//EN
VERSION:2.0
CALSCALE:GREGORIAN
METHOD:PUBLISH
X-WR-CALNAME:Hack & Beers Vol. 5 - Guadalajara
X-WR-TIMEZONE:Europe/Madrid
X-WR-CALDESC:Hack & Beers Vol. 5 - Guadalajara
BEGIN:VEVENT
DTSTART:20211111T170000Z
DTEND:20211111T200000Z
DTSTAMP:20211111T170000Z
UID:5f0cd5c9d281afabcce748cbf8121625@betabeers.com
CREATED:20211112T104941Z
DESCRIPTION:https://betabeers.com/en/event/hack-beers-vol-5-guadalajara-11-
noviembre-2021-14359/
URL:https://betabeers.com/en/event/hack-beers-vol-5-guadalajara-11-noviembr
e-2021-14359/
LAST-MODIFIED:20211112T104941Z
LOCATION:6 Calle de Juan Diges Antón, Guadalajara, España
SEQUENCE:0
STATUS:CONFIRMED
SUMMARY:Hack & Beers Vol. 5 - Guadalajara
TRANSP:OPAQUE
END:VEVENT
END:VCALENDAR
