BEGIN:VCALENDAR
PRODID:-//hacksw/handcal//NONSGML v1.0//EN
VERSION:2.0
CALSCALE:GREGORIAN
METHOD:PUBLISH
X-WR-CALNAME:¿Por qué y cuando desarrollar con Silex?
X-WR-TIMEZONE:Europe/Madrid
X-WR-CALDESC:¿Por qué y cuando desarrollar con Silex?
BEGIN:VEVENT
DTSTART:20131219T180000Z
DTEND:20131219T184500Z
DTSTAMP:20131219T180000Z
UID:75b43788ce538307411516389cbb09ef@betabeers.com
CREATED:20131216T082951Z
DESCRIPTION:https://betabeers.com/en/event/por-que-cuando-desarrollar-silex
-19-diciembre-2013-1435/
URL:https://betabeers.com/en/event/por-que-cuando-desarrollar-silex-19-dici
embre-2013-1435/
LAST-MODIFIED:20131216T082951Z
LOCATION:España - América Latina, Madrid, España
SEQUENCE:0
STATUS:CONFIRMED
SUMMARY:¿Por qué y cuando desarrollar con Silex?
TRANSP:OPAQUE
END:VEVENT
END:VCALENDAR
