BEGIN:VCALENDAR
PRODID:-//hacksw/handcal//NONSGML v1.0//EN
VERSION:2.0
CALSCALE:GREGORIAN
METHOD:PUBLISH
X-WR-CALNAME:Alicante Python Meetup - Copas y Tapas
X-WR-TIMEZONE:Europe/Madrid
X-WR-CALDESC:Alicante Python Meetup - Copas y Tapas
BEGIN:VEVENT
DTSTART:20131218T180000Z
DTEND:20131218T203000Z
DTSTAMP:20131218T180000Z
UID:4e6506078b2a95c7bf16c589905f630c@betabeers.com
CREATED:20131212T194507Z
DESCRIPTION:https://betabeers.com/en/event/alicante-python-meetup-copas-tap
as-1427/
URL:https://betabeers.com/en/event/alicante-python-meetup-copas-tapas-1427/
LAST-MODIFIED:20131212T194507Z
LOCATION:Cervecería Sento Calle Teniente Coronel Chápuli, 1 03001, Alican
te, España
SEQUENCE:0
STATUS:CONFIRMED
SUMMARY:Alicante Python Meetup - Copas y Tapas
TRANSP:OPAQUE
END:VEVENT
END:VCALENDAR
