BEGIN:VCALENDAR
PRODID:-//hacksw/handcal//NONSGML v1.0//EN
VERSION:2.0
CALSCALE:GREGORIAN
METHOD:PUBLISH
X-WR-CALNAME:DroidCon Spain 2013
X-WR-TIMEZONE:Europe/Madrid
X-WR-CALDESC:DroidCon Spain 2013
BEGIN:VEVENT
DTSTART:20131209T080000Z
DTEND:20131210T200000Z
DTSTAMP:20131209T080000Z
UID:039c90f9dded65f763ce3192909d54da@betabeers.com
CREATED:20131207T105425Z
DESCRIPTION:https://betabeers.com/en/event/droidcon-spain-2013-9-diciembre-
2013-1421/
URL:https://betabeers.com/en/event/droidcon-spain-2013-9-diciembre-2013-142
1/
LAST-MODIFIED:20131207T105425Z
LOCATION:Avenida de Alfonso XIII, 97, Madrid, España
SEQUENCE:0
STATUS:CONFIRMED
SUMMARY:DroidCon Spain 2013
TRANSP:OPAQUE
END:VEVENT
END:VCALENDAR
