BEGIN:VCALENDAR
PRODID:-//hacksw/handcal//NONSGML v1.0//EN
VERSION:2.0
CALSCALE:GREGORIAN
METHOD:PUBLISH
X-WR-CALNAME:Impresoras 3D: el futuro ya está aquí
X-WR-TIMEZONE:Europe/Madrid
X-WR-CALDESC:Impresoras 3D: el futuro ya está aquí
BEGIN:VEVENT
DTSTART:20131211T170000Z
DTEND:20131211T180000Z
DTSTAMP:20131211T170000Z
UID:f894fc069fbb43b4913e59fb21dea929@betabeers.com
CREATED:20131204T081741Z
DESCRIPTION:https://betabeers.com/en/event/impresoras-3d-el-futuro-ya-esta-
aqui-11-diciembre-2013-1419/
URL:https://betabeers.com/en/event/impresoras-3d-el-futuro-ya-esta-aqui-11-
diciembre-2013-1419/
LAST-MODIFIED:20131204T081741Z
LOCATION:Gran Vía 28, Madrid, España
SEQUENCE:0
STATUS:CONFIRMED
SUMMARY:Impresoras 3D: el futuro ya está aquí
TRANSP:OPAQUE
END:VEVENT
END:VCALENDAR
