BEGIN:VCALENDAR
PRODID:-//hacksw/handcal//NONSGML v1.0//EN
VERSION:2.0
CALSCALE:GREGORIAN
METHOD:PUBLISH
X-WR-CALNAME:GDG Lleida - GCiers Podcast\, E05S01
X-WR-TIMEZONE:Europe/Madrid
X-WR-CALDESC:GDG Lleida - GCiers Podcast\, E05S01
BEGIN:VEVENT
DTSTART:20201207T180000Z
DTEND:20201207T184500Z
DTSTAMP:20201207T180000Z
UID:9005db20ec5ed4620eb1e101d1a12a89@betabeers.com
CREATED:20201206T223536Z
DESCRIPTION:https://betabeers.com/en/event/gdg-lleida-gciers-podcast-e05s01
-1-enero-1970-14078/
URL:https://betabeers.com/en/event/gdg-lleida-gciers-podcast-e05s01-1-enero
-1970-14078/
LAST-MODIFIED:20201206T223536Z
LOCATION:-, Lleida, España
SEQUENCE:0
STATUS:CONFIRMED
SUMMARY:GDG Lleida - GCiers Podcast\, E05S01
TRANSP:OPAQUE
END:VEVENT
END:VCALENDAR
