BEGIN:VCALENDAR
PRODID:-//hacksw/handcal//NONSGML v1.0//EN
VERSION:2.0
CALSCALE:GREGORIAN
METHOD:PUBLISH
X-WR-CALNAME:GDG Lleida - Presentación del programa de Becas de verano de Google: GSoC al DSC de la Univer
X-WR-TIMEZONE:Europe/Madrid
X-WR-CALDESC:GDG Lleida - Presentación del programa de Becas de verano de Google: GSoC al DSC de la Univer
BEGIN:VEVENT
DTSTART:20201215T163000Z
DTEND:20201215T173000Z
DTSTAMP:20201215T163000Z
UID:f021a2efb855188b0d6f014687eff51d@betabeers.com
CREATED:20201129T223525Z
DESCRIPTION:https://betabeers.com/en/event/gdg-lleida-presentacion-del-prog
rama-becas-verano-google-gsoc-al-dsc-la-univer-1-enero-1970-14049/
URL:https://betabeers.com/en/event/gdg-lleida-presentacion-del-programa-bec
as-verano-google-gsoc-al-dsc-la-univer-1-enero-1970-14049/
LAST-MODIFIED:20201129T223525Z
LOCATION:-, Lleida, España
SEQUENCE:0
STATUS:CONFIRMED
SUMMARY:GDG Lleida - Presentación del programa de Becas de verano de Googl
e: GSoC al DSC de la Univer
TRANSP:OPAQUE
END:VEVENT
END:VCALENDAR
