BEGIN:VCALENDAR
PRODID:-//hacksw/handcal//NONSGML v1.0//EN
VERSION:2.0
CALSCALE:GREGORIAN
METHOD:PUBLISH
X-WR-CALNAME:GDG Lleida - Podcast GDG Spain S02E02: El nuevo Google TV\, gadget obligatorio en vuestros árb
X-WR-TIMEZONE:Europe/Madrid
X-WR-CALDESC:GDG Lleida - Podcast GDG Spain S02E02: El nuevo Google TV\, gadget obligatorio en vuestros árb
BEGIN:VEVENT
DTSTART:20201204T180000Z
DTEND:20201204T190000Z
DTSTAMP:20201204T180000Z
UID:eb8a0014b4cf816920672ea5876b77af@betabeers.com
CREATED:20201129T223525Z
DESCRIPTION:https://betabeers.com/en/event/gdg-lleida-podcast-gdg-spain-s02
e02-el-nuevo-google-tv-gadget-obligatorio-vuestros-arb-1-enero-1970-14048/
URL:https://betabeers.com/en/event/gdg-lleida-podcast-gdg-spain-s02e02-el-n
uevo-google-tv-gadget-obligatorio-vuestros-arb-1-enero-1970-14048/
LAST-MODIFIED:20201129T223525Z
LOCATION:-, Lleida, España
SEQUENCE:0
STATUS:CONFIRMED
SUMMARY:GDG Lleida - Podcast GDG Spain S02E02: El nuevo Google TV\, gadget 
obligatorio en vuestros árb
TRANSP:OPAQUE
END:VEVENT
END:VCALENDAR
