BEGIN:VCALENDAR
PRODID:-//hacksw/handcal//NONSGML v1.0//EN
VERSION:2.0
CALSCALE:GREGORIAN
METHOD:PUBLISH
X-WR-CALNAME:GDG Lleida - Podcast XR Devfest 1x05\, un Podcast con mucho filtro y belleza
X-WR-TIMEZONE:Europe/Madrid
X-WR-CALDESC:GDG Lleida - Podcast XR Devfest 1x05\, un Podcast con mucho filtro y belleza
BEGIN:VEVENT
DTSTART:20201201T180000Z
DTEND:20201201T190000Z
DTSTAMP:20201201T180000Z
UID:1823fb0f96077342fee8ac5f302ec175@betabeers.com
CREATED:20201129T223525Z
DESCRIPTION:https://betabeers.com/en/event/gdg-lleida-podcast-xr-devfest-1x
05-un-podcast-mucho-filtro-belleza-1-enero-1970-14047/
URL:https://betabeers.com/en/event/gdg-lleida-podcast-xr-devfest-1x05-un-po
dcast-mucho-filtro-belleza-1-enero-1970-14047/
LAST-MODIFIED:20201129T223525Z
LOCATION:-, Lleida, España
SEQUENCE:0
STATUS:CONFIRMED
SUMMARY:GDG Lleida - Podcast XR Devfest 1x05\, un Podcast con mucho filtro 
y belleza
TRANSP:OPAQUE
END:VEVENT
END:VCALENDAR
