BEGIN:VCALENDAR
PRODID:-//hacksw/handcal//NONSGML v1.0//EN
VERSION:2.0
CALSCALE:GREGORIAN
METHOD:PUBLISH
X-WR-CALNAME:GDG Lleida - Presentació del programa de Beques d’estiu de Google: GSoC als grups DSC
X-WR-TIMEZONE:Europe/Madrid
X-WR-CALDESC:GDG Lleida - Presentació del programa de Beques d’estiu de Google: GSoC als grups DSC
BEGIN:VEVENT
DTSTART:20201209T180000Z
DTEND:20201209T184500Z
DTSTAMP:20201209T180000Z
UID:cd4e0e88d5254e2351474ca7557c2892@betabeers.com
CREATED:20201122T223529Z
DESCRIPTION:https://betabeers.com/en/event/gdg-lleida-presentacio-del-progr
ama-beques-destiu-google-gsoc-als-grups-dsc-1-enero-1970-14020/
URL:https://betabeers.com/en/event/gdg-lleida-presentacio-del-programa-bequ
es-destiu-google-gsoc-als-grups-dsc-1-enero-1970-14020/
LAST-MODIFIED:20201122T223529Z
LOCATION:-, Lleida, España
SEQUENCE:0
STATUS:CONFIRMED
SUMMARY:GDG Lleida - Presentació del programa de Beques d’estiu de Googl
e: GSoC als grups DSC
TRANSP:OPAQUE
END:VEVENT
END:VCALENDAR
