BEGIN:VCALENDAR
PRODID:-//hacksw/handcal//NONSGML v1.0//EN
VERSION:2.0
CALSCALE:GREGORIAN
METHOD:PUBLISH
X-WR-CALNAME:GDG Bogotá (Google Developers Group) - Google+ API
X-WR-TIMEZONE:Europe/Madrid
X-WR-CALDESC:GDG Bogotá (Google Developers Group) - Google+ API
BEGIN:VEVENT
DTSTART:20131218T233000Z
DTEND:20131219T003000Z
DTSTAMP:20131218T233000Z
UID:497232391e6eb6d9232bb0cc9f9aebe1@betabeers.com
CREATED:20131130T230021Z
DESCRIPTION:https://betabeers.com/en/event/gdg-bogota-google-developers-gro
up-google-api-1402/
URL:https://betabeers.com/en/event/gdg-bogota-google-developers-group-googl
e-api-1402/
LAST-MODIFIED:20131130T230021Z
LOCATION:-, Bucaramanga, Colombia
SEQUENCE:0
STATUS:CONFIRMED
SUMMARY:GDG Bogotá (Google Developers Group) - Google+ API
TRANSP:OPAQUE
END:VEVENT
END:VCALENDAR
