BEGIN:VCALENDAR
PRODID:-//hacksw/handcal//NONSGML v1.0//EN
VERSION:2.0
CALSCALE:GREGORIAN
METHOD:PUBLISH
X-WR-CALNAME:Madrid IBM Bluemix - ¡Watson baila con Alexa! Integrando en Alexa un chatbot de Watson Assistant
X-WR-TIMEZONE:Europe/Madrid
X-WR-CALDESC:Madrid IBM Bluemix - ¡Watson baila con Alexa! Integrando en Alexa un chatbot de Watson Assistant
BEGIN:VEVENT
DTSTART:20201201T110000Z
DTEND:20201201T120000Z
DTSTAMP:20201201T110000Z
UID:f7ccd9a7d9c404f9bcc441d93a7ac047@betabeers.com
CREATED:20201115T223438Z
DESCRIPTION:https://betabeers.com/en/event/madrid-ibm-bluemix-watson-baila-
alexa-integrando-alexa-un-chatbot-watson-assistant-1-enero-1970-13979/
URL:https://betabeers.com/en/event/madrid-ibm-bluemix-watson-baila-alexa-in
tegrando-alexa-un-chatbot-watson-assistant-1-enero-1970-13979/
LAST-MODIFIED:20201115T223438Z
LOCATION:Online event, Madrid, España
SEQUENCE:0
STATUS:CONFIRMED
SUMMARY:Madrid IBM Bluemix - ¡Watson baila con Alexa! Integrando en Alexa 
un chatbot de Watson Assistant
TRANSP:OPAQUE
END:VEVENT
END:VCALENDAR
