BEGIN:VCALENDAR
PRODID:-//hacksw/handcal//NONSGML v1.0//EN
VERSION:2.0
CALSCALE:GREGORIAN
METHOD:PUBLISH
X-WR-CALNAME:Ciudad Real JS - Hackathon Online de Energía Renovable
X-WR-TIMEZONE:Europe/Madrid
X-WR-CALDESC:Ciudad Real JS - Hackathon Online de Energía Renovable
BEGIN:VEVENT
DTSTART:20201120T160000Z
DTEND:20201121T190000Z
DTSTAMP:20201120T160000Z
UID:9e888bdd5571b8a0e4f6f499bd3a8295@betabeers.com
CREATED:20201108T223545Z
DESCRIPTION:https://betabeers.com/en/event/ciudad-real-js-hackathon-online-
energia-renovable-1-enero-1970-13954/
URL:https://betabeers.com/en/event/ciudad-real-js-hackathon-online-energia-
renovable-1-enero-1970-13954/
LAST-MODIFIED:20201108T223545Z
LOCATION:Online event, Ciudad Real, España
SEQUENCE:0
STATUS:CONFIRMED
SUMMARY:Ciudad Real JS - Hackathon Online de Energía Renovable
TRANSP:OPAQUE
END:VEVENT
END:VCALENDAR
