BEGIN:VCALENDAR
PRODID:-//hacksw/handcal//NONSGML v1.0//EN
VERSION:2.0
CALSCALE:GREGORIAN
METHOD:PUBLISH
X-WR-CALNAME:Startup Afterhours & Xmas Party
X-WR-TIMEZONE:Europe/Madrid
X-WR-CALDESC:Startup Afterhours & Xmas Party
BEGIN:VEVENT
DTSTART:20131211T183000Z
DTEND:20131211T220000Z
DTSTAMP:20131211T183000Z
UID:fb47d299d6b10e74f3a7697fc89d16f7@betabeers.com
CREATED:20131122T185613Z
DESCRIPTION:https://betabeers.com/en/event/startup-afterhours-xmas-party-13
91/
URL:https://betabeers.com/en/event/startup-afterhours-xmas-party-1391/
LAST-MODIFIED:20131122T185613Z
LOCATION:151 San Francisco Street, Old San Juan, PR, 00901 (justo al lado d
e la alcaldía), San Juan, Puerto Rico
SEQUENCE:0
STATUS:CONFIRMED
SUMMARY:Startup Afterhours & Xmas Party
TRANSP:OPAQUE
END:VEVENT
END:VCALENDAR
