BEGIN:VCALENDAR
PRODID:-//hacksw/handcal//NONSGML v1.0//EN
VERSION:2.0
CALSCALE:GREGORIAN
METHOD:PUBLISH
X-WR-CALNAME:GDG Lleida - Devfest XR 2020 5th edition\, by GDG Spain with Google Developer Groups
X-WR-TIMEZONE:Europe/Madrid
X-WR-CALDESC:GDG Lleida - Devfest XR 2020 5th edition\, by GDG Spain with Google Developer Groups
BEGIN:VEVENT
DTSTART:20201031T160000Z
DTEND:20201031T183000Z
DTSTAMP:20201031T160000Z
UID:4cc677ec3c1f2e8d4309fdba8f9d755d@betabeers.com
CREATED:20201018T223506Z
DESCRIPTION:https://betabeers.com/en/event/gdg-lleida-devfest-xr-2020-5th-e
dition-by-gdg-spain-with-google-developer-groups-1-enero-1970-13853/
URL:https://betabeers.com/en/event/gdg-lleida-devfest-xr-2020-5th-edition-b
y-gdg-spain-with-google-developer-groups-1-enero-1970-13853/
LAST-MODIFIED:20201018T223506Z
LOCATION:-, Lleida, España
SEQUENCE:0
STATUS:CONFIRMED
SUMMARY:GDG Lleida - Devfest XR 2020 5th edition\, by GDG Spain with Google
 Developer Groups
TRANSP:OPAQUE
END:VEVENT
END:VCALENDAR
